BEGIN:VCALENDAR
VERSION:2.0
PRODID:-//Budo-Schule Wiesbaden - ECPv6.15.20//NONSGML v1.0//EN
CALSCALE:GREGORIAN
METHOD:PUBLISH
X-WR-CALNAME:Budo-Schule Wiesbaden
X-ORIGINAL-URL:https://budo-schule-wiesbaden.de
X-WR-CALDESC:Veranstaltungen für Budo-Schule Wiesbaden
REFRESH-INTERVAL;VALUE=DURATION:PT1H
X-Robots-Tag:noindex
X-PUBLISHED-TTL:PT1H
BEGIN:VTIMEZONE
TZID:Europe/Berlin
BEGIN:DAYLIGHT
TZOFFSETFROM:+0100
TZOFFSETTO:+0200
TZNAME:CEST
DTSTART:20220327T010000
END:DAYLIGHT
BEGIN:STANDARD
TZOFFSETFROM:+0200
TZOFFSETTO:+0100
TZNAME:CET
DTSTART:20221030T010000
END:STANDARD
BEGIN:DAYLIGHT
TZOFFSETFROM:+0100
TZOFFSETTO:+0200
TZNAME:CEST
DTSTART:20230326T010000
END:DAYLIGHT
BEGIN:STANDARD
TZOFFSETFROM:+0200
TZOFFSETTO:+0100
TZNAME:CET
DTSTART:20231029T010000
END:STANDARD
BEGIN:DAYLIGHT
TZOFFSETFROM:+0100
TZOFFSETTO:+0200
TZNAME:CEST
DTSTART:20240331T010000
END:DAYLIGHT
BEGIN:STANDARD
TZOFFSETFROM:+0200
TZOFFSETTO:+0100
TZNAME:CET
DTSTART:20241027T010000
END:STANDARD
END:VTIMEZONE
BEGIN:VEVENT
DTSTART;TZID=Europe/Berlin:20230315T160000
DTEND;TZID=Europe/Berlin:20230315T180000
DTSTAMP:20260420T041744
CREATED:20230126T094819Z
LAST-MODIFIED:20230126T094819Z
UID:10542-1678896000-1678903200@budo-schule-wiesbaden.de
SUMMARY:Taekwondo-Prüfung
DESCRIPTION:16.00-17.00 Uhr Gruppe KITA und 1. Klasse\n17.00-18.00 Uhr Gruppe 2. Klasse
URL:https://budo-schule-wiesbaden.de/event/taekwondo-pruefung-15/
LOCATION:Städt. Turnhalle\, Schultheißstr. 19\, 65191 Wiesbaden
END:VEVENT
END:VCALENDAR