BEGIN:VCALENDAR
VERSION:2.0
PRODID:-//Budo-Schule Wiesbaden - ECPv6.15.20//NONSGML v1.0//EN
CALSCALE:GREGORIAN
METHOD:PUBLISH
X-ORIGINAL-URL:https://budo-schule-wiesbaden.de
X-WR-CALDESC:Veranstaltungen für Budo-Schule Wiesbaden
REFRESH-INTERVAL;VALUE=DURATION:PT1H
X-Robots-Tag:noindex
X-PUBLISHED-TTL:PT1H
BEGIN:VTIMEZONE
TZID:Europe/Berlin
BEGIN:DAYLIGHT
TZOFFSETFROM:+0100
TZOFFSETTO:+0200
TZNAME:CEST
DTSTART:20210328T010000
END:DAYLIGHT
BEGIN:STANDARD
TZOFFSETFROM:+0200
TZOFFSETTO:+0100
TZNAME:CET
DTSTART:20211031T010000
END:STANDARD
BEGIN:DAYLIGHT
TZOFFSETFROM:+0100
TZOFFSETTO:+0200
TZNAME:CEST
DTSTART:20220327T010000
END:DAYLIGHT
BEGIN:STANDARD
TZOFFSETFROM:+0200
TZOFFSETTO:+0100
TZNAME:CET
DTSTART:20221030T010000
END:STANDARD
BEGIN:DAYLIGHT
TZOFFSETFROM:+0100
TZOFFSETTO:+0200
TZNAME:CEST
DTSTART:20230326T010000
END:DAYLIGHT
BEGIN:STANDARD
TZOFFSETFROM:+0200
TZOFFSETTO:+0100
TZNAME:CET
DTSTART:20231029T010000
END:STANDARD
END:VTIMEZONE
BEGIN:VEVENT
DTSTART;VALUE=DATE:20220611
DTEND;VALUE=DATE:20220612
DTSTAMP:20260425T123049
CREATED:20211112T115838Z
LAST-MODIFIED:20220418T061727Z
UID:8852-1654905600-1654991999@budo-schule-wiesbaden.de
SUMMARY:DTU Final 9 Thüringen
DESCRIPTION:
URL:https://budo-schule-wiesbaden.de/event/dtu-final-9-thueringen/
END:VEVENT
BEGIN:VEVENT
DTSTART;VALUE=DATE:20220611
DTEND;VALUE=DATE:20220612
DTSTAMP:20260425T123049
CREATED:20211112T115914Z
LAST-MODIFIED:20211112T115914Z
UID:8854-1654905600-1654991999@budo-schule-wiesbaden.de
SUMMARY:DTU Final 9 Saarland
DESCRIPTION:
URL:https://budo-schule-wiesbaden.de/event/dtu-final-9-saarland/
END:VEVENT
BEGIN:VEVENT
DTSTART;VALUE=DATE:20220611
DTEND;VALUE=DATE:20220613
DTSTAMP:20260425T123049
CREATED:20220202T090539Z
LAST-MODIFIED:20220202T090539Z
UID:9263-1654905600-1655078399@budo-schule-wiesbaden.de
SUMMARY:Lux Open Kampf
DESCRIPTION:
URL:https://budo-schule-wiesbaden.de/event/lux-open-kampf/
END:VEVENT
BEGIN:VEVENT
DTSTART;VALUE=DATE:20220618
DTEND;VALUE=DATE:20220620
DTSTAMP:20260425T123049
CREATED:20220202T090603Z
LAST-MODIFIED:20220202T090603Z
UID:9265-1655510400-1655683199@budo-schule-wiesbaden.de
SUMMARY:Croatia Open Kampf
DESCRIPTION:
URL:https://budo-schule-wiesbaden.de/event/croatia-open-kampf/
END:VEVENT
BEGIN:VEVENT
DTSTART;VALUE=DATE:20220619
DTEND;VALUE=DATE:20220620
DTSTAMP:20260425T123049
CREATED:20220202T090744Z
LAST-MODIFIED:20220202T090744Z
UID:9267-1655596800-1655683199@budo-schule-wiesbaden.de
SUMMARY:HTU-Kaderlehrgang Freestyle
DESCRIPTION:
URL:https://budo-schule-wiesbaden.de/event/htu-kaderlehrgang-freestyle-4/
END:VEVENT
BEGIN:VEVENT
DTSTART;VALUE=DATE:20220625
DTEND;VALUE=DATE:20220626
DTSTAMP:20260425T123049
CREATED:20211224T085949Z
LAST-MODIFIED:20211224T085949Z
UID:8999-1656115200-1656201599@budo-schule-wiesbaden.de
SUMMARY:Bundesranglistenturnier 1 Poomsae (Ausrichter gesucht)
DESCRIPTION:
URL:https://budo-schule-wiesbaden.de/event/bundesranglistenturnier-1-poomsae-ausrichter-gesucht/
END:VEVENT
BEGIN:VEVENT
DTSTART;VALUE=DATE:20220625
DTEND;VALUE=DATE:20220626
DTSTAMP:20260425T123049
CREATED:20220202T090806Z
LAST-MODIFIED:20220202T090806Z
UID:9269-1656115200-1656201599@budo-schule-wiesbaden.de
SUMMARY:DTU Final 9 Bayern
DESCRIPTION:
URL:https://budo-schule-wiesbaden.de/event/dtu-final-9-bayern/
END:VEVENT
BEGIN:VEVENT
DTSTART;TZID=Europe/Berlin:20220627T163000
DTEND;TZID=Europe/Berlin:20220627T180000
DTSTAMP:20260425T123049
CREATED:20220609T075515Z
LAST-MODIFIED:20220609T075515Z
UID:9578-1656347400-1656352800@budo-schule-wiesbaden.de
SUMMARY:Taekwondo-Prüfung
DESCRIPTION:Gruppe 3.-7. Klasse Anfänger
URL:https://budo-schule-wiesbaden.de/event/taekwondo-pruefung-8/
LOCATION:kleine Turnhalle Theodor-Fliedner-Schule\, Biegerstr. 15\, 65191 Wiesbaden
END:VEVENT
BEGIN:VEVENT
DTSTART;TZID=Europe/Berlin:20220629T150000
DTEND;TZID=Europe/Berlin:20220629T150000
DTSTAMP:20260425T123049
CREATED:20220609T075835Z
LAST-MODIFIED:20220609T075835Z
UID:9580-1656514800-1656514800@budo-schule-wiesbaden.de
SUMMARY:Taekwondo-Prüfung
DESCRIPTION:Gruppen Kita\, 1. und 2. Klasse:\n15.00-16.00: Weißgurte\n16.00-17.00: Weißgelbgurte\n17.00-18.00: Gelbgurte \n19.30-21.00: Gruppe ab 14 Jahre
URL:https://budo-schule-wiesbaden.de/event/taekwondo-pruefung-9/
LOCATION:Städt. Turnhalle\, Schultheißstr. 19\, 65191 Wiesbaden
END:VEVENT
END:VCALENDAR