BEGIN:VCALENDAR
VERSION:2.0
PRODID:-//Budo-Schule Wiesbaden - ECPv6.15.20//NONSGML v1.0//EN
CALSCALE:GREGORIAN
METHOD:PUBLISH
X-ORIGINAL-URL:https://budo-schule-wiesbaden.de
X-WR-CALDESC:Veranstaltungen für Budo-Schule Wiesbaden
REFRESH-INTERVAL;VALUE=DURATION:PT1H
X-Robots-Tag:noindex
X-PUBLISHED-TTL:PT1H
BEGIN:VTIMEZONE
TZID:Europe/Berlin
BEGIN:DAYLIGHT
TZOFFSETFROM:+0100
TZOFFSETTO:+0200
TZNAME:CEST
DTSTART:20210328T010000
END:DAYLIGHT
BEGIN:STANDARD
TZOFFSETFROM:+0200
TZOFFSETTO:+0100
TZNAME:CET
DTSTART:20211031T010000
END:STANDARD
BEGIN:DAYLIGHT
TZOFFSETFROM:+0100
TZOFFSETTO:+0200
TZNAME:CEST
DTSTART:20220327T010000
END:DAYLIGHT
BEGIN:STANDARD
TZOFFSETFROM:+0200
TZOFFSETTO:+0100
TZNAME:CET
DTSTART:20221030T010000
END:STANDARD
BEGIN:DAYLIGHT
TZOFFSETFROM:+0100
TZOFFSETTO:+0200
TZNAME:CEST
DTSTART:20230326T010000
END:DAYLIGHT
BEGIN:STANDARD
TZOFFSETFROM:+0200
TZOFFSETTO:+0100
TZNAME:CET
DTSTART:20231029T010000
END:STANDARD
END:VTIMEZONE
BEGIN:VEVENT
DTSTART;TZID=Europe/Berlin:20221003T100000
DTEND;TZID=Europe/Berlin:20221003T170000
DTSTAMP:20260425T040341
CREATED:20220824T082700Z
LAST-MODIFIED:20220824T082700Z
UID:9854-1664791200-1664816400@budo-schule-wiesbaden.de
SUMMARY:Taekwondo Seminar Intensiv 100
DESCRIPTION:Flyer TKD Seminar Intensiv 100
URL:https://budo-schule-wiesbaden.de/event/taekwondo-seminar-intensiv-100-3/
LOCATION:Sporthalle Theodor-Fliedner-Schule\, Biegerstr. 15\, Wiesbaden
END:VEVENT
BEGIN:VEVENT
DTSTART;VALUE=DATE:20221008
DTEND;VALUE=DATE:20221009
DTSTAMP:20260425T040341
CREATED:20220125T084004Z
LAST-MODIFIED:20220125T084004Z
UID:9213-1665187200-1665273599@budo-schule-wiesbaden.de
SUMMARY:HTU Open Poomsae
DESCRIPTION:
URL:https://budo-schule-wiesbaden.de/event/htu-open-poomsae/
LOCATION:Weststadthalle\, Berliner Ring 87\, Bensheim\, 64625
END:VEVENT
BEGIN:VEVENT
DTSTART;TZID=Europe/Berlin:20221015T170000
DTEND;TZID=Europe/Berlin:20221015T183000
DTSTAMP:20260425T040341
CREATED:20220728T081814Z
LAST-MODIFIED:20220825T140625Z
UID:9807-1665853200-1665858600@budo-schule-wiesbaden.de
SUMMARY:Budo-Gala
DESCRIPTION:Am Samstag\, 15. Oktober\, veranstaltet die Budo-Schule Wiesbaden die 32. Budo-Gala in der Städt. Turnhalle Wiesbaden-Bierstadt. In einem 90minütigen Showprogramm präsentiert das Team der Budo-Schule Taekwondo und Ju-Jutsu. Die hochkarätige Show beginnt um 17.00 Uhr. Der Eintritt beträgt 5\,- € (für Kinder und Jugendliche kostenlos). \nFlyer Budo-Gala
URL:https://budo-schule-wiesbaden.de/event/budo-gala-3/
LOCATION:Städt. Turnhalle\, Schultheißstr. 19\, 65191 Wiesbaden
END:VEVENT
END:VCALENDAR