BEGIN:VCALENDAR
VERSION:2.0
PRODID:-//Budo-Schule Wiesbaden - ECPv6.15.20//NONSGML v1.0//EN
CALSCALE:GREGORIAN
METHOD:PUBLISH
X-WR-CALNAME:Budo-Schule Wiesbaden
X-ORIGINAL-URL:https://budo-schule-wiesbaden.de
X-WR-CALDESC:Veranstaltungen für Budo-Schule Wiesbaden
REFRESH-INTERVAL;VALUE=DURATION:PT1H
X-Robots-Tag:noindex
X-PUBLISHED-TTL:PT1H
BEGIN:VTIMEZONE
TZID:Europe/Berlin
BEGIN:DAYLIGHT
TZOFFSETFROM:+0100
TZOFFSETTO:+0200
TZNAME:CEST
DTSTART:20210328T010000
END:DAYLIGHT
BEGIN:STANDARD
TZOFFSETFROM:+0200
TZOFFSETTO:+0100
TZNAME:CET
DTSTART:20211031T010000
END:STANDARD
BEGIN:DAYLIGHT
TZOFFSETFROM:+0100
TZOFFSETTO:+0200
TZNAME:CEST
DTSTART:20220327T010000
END:DAYLIGHT
BEGIN:STANDARD
TZOFFSETFROM:+0200
TZOFFSETTO:+0100
TZNAME:CET
DTSTART:20221030T010000
END:STANDARD
BEGIN:DAYLIGHT
TZOFFSETFROM:+0100
TZOFFSETTO:+0200
TZNAME:CEST
DTSTART:20230326T010000
END:DAYLIGHT
BEGIN:STANDARD
TZOFFSETFROM:+0200
TZOFFSETTO:+0100
TZNAME:CET
DTSTART:20231029T010000
END:STANDARD
END:VTIMEZONE
BEGIN:VEVENT
DTSTART;TZID=Europe/Berlin:20221107T193000
DTEND;TZID=Europe/Berlin:20221107T210000
DTSTAMP:20260425T022241
CREATED:20221007T110643Z
LAST-MODIFIED:20221101T085344Z
UID:10037-1667849400-1667854800@budo-schule-wiesbaden.de
SUMMARY:Taekwondo-Prüfung
DESCRIPTION:Gruppe ab 14 Jahre
URL:https://budo-schule-wiesbaden.de/event/taekwondo-pruefung-10/
LOCATION:Gemeinschaftshaus (Anbau der Sporthalle der Theodor-Fiedner-Schule)\, Biegerstr. 15\, 65191 Wiesbaden
END:VEVENT
BEGIN:VEVENT
DTSTART;TZID=Europe/Berlin:20221109T160000
DTEND;TZID=Europe/Berlin:20221109T160000
DTSTAMP:20260425T022241
CREATED:20221007T111156Z
LAST-MODIFIED:20221007T111156Z
UID:10041-1668009600-1668009600@budo-schule-wiesbaden.de
SUMMARY:Taekwondo-Prüfung
DESCRIPTION:Gruppen KITA\, 1. und 2. Klasse
URL:https://budo-schule-wiesbaden.de/event/taekwondo-pruefung-12/
LOCATION:Städt. Turnhalle\, Schultheißstr. 19\, 65191 Wiesbaden
END:VEVENT
BEGIN:VEVENT
DTSTART;TZID=Europe/Berlin:20221110T163000
DTEND;TZID=Europe/Berlin:20221110T180000
DTSTAMP:20260425T022241
CREATED:20221101T085451Z
LAST-MODIFIED:20221101T085452Z
UID:10169-1668097800-1668103200@budo-schule-wiesbaden.de
SUMMARY:Taekwondo-Prüfung
DESCRIPTION:Gruppe 3.-7. Klasse Anfänger
URL:https://budo-schule-wiesbaden.de/event/taekwondo-pruefung-13/
LOCATION:kleine Turnhalle Theodor-Fliedner-Schule\, Biegerstr. 15\, 65191 Wiesbaden
END:VEVENT
BEGIN:VEVENT
DTSTART;VALUE=DATE:20221112
DTEND;VALUE=DATE:20221113
DTSTAMP:20260425T022241
CREATED:20211112T120055Z
LAST-MODIFIED:20211112T120055Z
UID:8860-1668211200-1668297599@budo-schule-wiesbaden.de
SUMMARY:DTU Final 9 Sachsen-Anhalt
DESCRIPTION:
URL:https://budo-schule-wiesbaden.de/event/dtu-final-9-sachsen-anhalt/
END:VEVENT
END:VCALENDAR